BEGIN:VCALENDAR
VERSION:2.0
PRODID:-//Pure Coaching - ECPv6.15.11//NONSGML v1.0//EN
CALSCALE:GREGORIAN
METHOD:PUBLISH
X-WR-CALNAME:Pure Coaching
X-ORIGINAL-URL:https://purecoaching.vn
X-WR-CALDESC:Sự kiện cho Pure Coaching
REFRESH-INTERVAL;VALUE=DURATION:PT1H
X-Robots-Tag:noindex
X-PUBLISHED-TTL:PT1H
BEGIN:VTIMEZONE
TZID:Asia/Ho_Chi_Minh
BEGIN:STANDARD
TZOFFSETFROM:+0700
TZOFFSETTO:+0700
TZNAME:+07
DTSTART:20250101T000000
END:STANDARD
END:VTIMEZONE
BEGIN:VEVENT
DTSTART;TZID=Asia/Ho_Chi_Minh:20260101T080000
DTEND;TZID=Asia/Ho_Chi_Minh:20270131T170000
DTSTAMP:20260422T143754
CREATED:20251229T143224Z
LAST-MODIFIED:20251229T143337Z
UID:2102-1767254400-1801414800@purecoaching.vn
SUMMARY:Các sự kiện chính của Pure Coaching trong năm 2026
DESCRIPTION:
URL:https://purecoaching.vn/event/cac-su-kien-chinh-cua-pure-coaching-trong-nam-2026/
ATTACH;FMTTYPE=image/png:https://purecoaching.vn/wp-content/uploads/2025/12/key-activities-ngang.png
END:VEVENT
BEGIN:VEVENT
DTSTART;TZID=Asia/Ho_Chi_Minh:20260228T080000
DTEND;TZID=Asia/Ho_Chi_Minh:20261130T080000
DTSTAMP:20260422T143754
CREATED:20250926T020317Z
LAST-MODIFIED:20251220T062330Z
UID:971-1772265600-1796025600@purecoaching.vn
SUMMARY:Khóa đào tạo HVF Coach (HVFC)
DESCRIPTION:Trở thành chuyên gia khai vấn Mối Quan Hệ tốt nhất với hệ thống kiến thức bài bản và đồ sộ\, cho bạn tự tin vững chãi ngay khi bước vào nghề. \n\nĐăng ký: www.tinhnutoarang.com 
URL:https://purecoaching.vn/event/khoa-dao-tao-hvf-coach-hvfc/
ATTACH;FMTTYPE=image/png:https://purecoaching.vn/wp-content/uploads/2025/11/Copy-of-HVF-2025-poster-Twitter-Post-5.png
END:VEVENT
BEGIN:VEVENT
DTSTART;TZID=Asia/Ho_Chi_Minh:20260329T080000
DTEND;TZID=Asia/Ho_Chi_Minh:20260614T080000
DTSTAMP:20260422T143754
CREATED:20250924T155111Z
LAST-MODIFIED:20251220T044953Z
UID:954-1774771200-1781424000@purecoaching.vn
SUMMARY:HVF Mastermind (HVFMM)
DESCRIPTION:VF Mastermind là với những kiến thức cao cấp và các phiên coaching chuyển hóa mang đến mối quan hệ đầy đam mê cùng tự do nội tâm tuyệt đối.\n\nXem thêm: https://tinhnutoarang.com/hvfmm/\n\nĐặt lịch hẹn: https://scheduler.zoom.us/pure-coaching-vietnam/hvfmm\n\n 
URL:https://purecoaching.vn/event/hvf-mastermind-hvfmm/
ATTACH;FMTTYPE=image/jpeg:https://purecoaching.vn/wp-content/uploads/2025/09/Moi-Quan-He-Day-Dam-Me-Voi-Noi-Tam-Tu-Do-Tuyet-Doi-Twitter-Post.jpg
END:VEVENT
END:VCALENDAR